Package: proActiv Version: 1.20.0 Command: /Library/Frameworks/R.framework/Resources/bin/R CMD check --install=check:proActiv.install-out.txt --library=/Library/Frameworks/R.framework/Resources/library --no-vignettes --timings proActiv_1.20.0.tar.gz StartedAt: 2025-11-22 18:15:54 -0500 (Sat, 22 Nov 2025) EndedAt: 2025-11-22 18:25:53 -0500 (Sat, 22 Nov 2025) EllapsedTime: 599.6 seconds RetCode: 0 Status: OK CheckDir: proActiv.Rcheck Warnings: 0