Package: proActiv Version: 1.20.0 Command: /Library/Frameworks/R.framework/Resources/bin/R CMD build --keep-empty-dirs --no-resave-data proActiv StartedAt: 2025-11-21 07:31:55 -0500 (Fri, 21 Nov 2025) EndedAt: 2025-11-21 07:33:11 -0500 (Fri, 21 Nov 2025) EllapsedTime: 75.3 seconds RetCode: 0 Status: OK PackageFile: proActiv_1.20.0.tar.gz PackageFileSize: 2.682 MiB