Package: primirTSS Version: 1.27.0 Command: /home/biocbuild/R/R/bin/R CMD INSTALL primirTSS StartedAt: 2025-10-16 22:16:21 -0000 (Thu, 16 Oct 2025) EndedAt: 2025-10-16 22:17:15 -0000 (Thu, 16 Oct 2025) EllapsedTime: 54.5 seconds RetCode: 0 Status: OK