Package: primirTSS Version: 1.27.0 Command: /home/biocbuild/R/R/bin/R CMD check --install=check:primirTSS.install-out.txt --library=/home/biocbuild/R/R/site-library --no-vignettes --timings primirTSS_1.27.0.tar.gz StartedAt: 2025-10-17 12:19:25 -0000 (Fri, 17 Oct 2025) EndedAt: 2025-10-17 12:25:06 -0000 (Fri, 17 Oct 2025) EllapsedTime: 341.4 seconds RetCode: 0 Status: WARNINGS CheckDir: primirTSS.Rcheck Warnings: 2