Package: primirTSS Version: 1.27.0 Command: /home/biocbuild/R/R/bin/R CMD build --keep-empty-dirs --no-resave-data primirTSS StartedAt: 2025-10-17 03:38:55 -0000 (Fri, 17 Oct 2025) EndedAt: 2025-10-17 03:40:17 -0000 (Fri, 17 Oct 2025) EllapsedTime: 82.0 seconds RetCode: 0 Status: OK PackageFile: primirTSS_1.27.0.tar.gz PackageFileSize: 3.663 MiB