Package: primirTSS Version: 1.27.0 Command: /home/biocbuild/bbs-3.22-bioc/R/bin/R CMD INSTALL primirTSS StartedAt: 2025-10-19 15:52:25 -0400 (Sun, 19 Oct 2025) EndedAt: 2025-10-19 15:53:07 -0400 (Sun, 19 Oct 2025) EllapsedTime: 41.9 seconds RetCode: 0 Status: OK