Package: primirTSS Version: 1.27.0 Command: /home/biocbuild/bbs-3.22-bioc/R/bin/R CMD check --install=check:primirTSS.install-out.txt --library=/home/biocbuild/bbs-3.22-bioc/R/site-library --timings primirTSS_1.27.0.tar.gz StartedAt: 2025-10-20 03:27:01 -0400 (Mon, 20 Oct 2025) EndedAt: 2025-10-20 03:31:47 -0400 (Mon, 20 Oct 2025) EllapsedTime: 286.2 seconds RetCode: 0 Status: WARNINGS CheckDir: primirTSS.Rcheck Warnings: 2