Package: primirTSS Version: 1.27.0 Command: /home/biocbuild/bbs-3.22-bioc/R/bin/R CMD build --keep-empty-dirs --no-resave-data --md5 primirTSS StartedAt: 2025-10-19 19:21:50 -0400 (Sun, 19 Oct 2025) EndedAt: 2025-10-19 19:22:51 -0400 (Sun, 19 Oct 2025) EllapsedTime: 61.0 seconds RetCode: 0 Status: OK PackageFile: primirTSS_1.27.0.tar.gz PackageFileSize: 3.664 MiB