Package: primirTSS Version: 1.27.0 Command: /Library/Frameworks/R.framework/Resources/bin/R CMD check --install=check:primirTSS.install-out.txt --library=/Library/Frameworks/R.framework/Resources/library --no-vignettes --timings primirTSS_1.27.0.tar.gz StartedAt: 2025-10-20 00:48:27 -0400 (Mon, 20 Oct 2025) EndedAt: 2025-10-20 00:53:29 -0400 (Mon, 20 Oct 2025) EllapsedTime: 301.9 seconds RetCode: 0 Status: WARNINGS CheckDir: primirTSS.Rcheck Warnings: 2