Package: primirTSS Version: 1.27.0 Command: rm -rf primirTSS.buildbin-libdir && mkdir primirTSS.buildbin-libdir && /Users/biocbuild/BBS/utils/build-universal.sh primirTSS_1.27.0.tar.gz /Library/Frameworks/R.framework/Resources/bin/R primirTSS.buildbin-libdir StartedAt: 2025-10-20 03:25:45 -0400 (Mon, 20 Oct 2025) EndedAt: 2025-10-20 03:26:47 -0400 (Mon, 20 Oct 2025) EllapsedTime: 62.0 seconds RetCode: 0 Status: OK PackageFile: primirTSS_1.27.0.tgz PackageFileSize: 3.779 MiB