Package: preciseTAD Version: 1.19.0 Command: /home/biocbuild/R/R/bin/R CMD check --install=check:preciseTAD.install-out.txt --library=/home/biocbuild/R/R/site-library --no-vignettes --timings preciseTAD_1.19.0.tar.gz StartedAt: 2025-10-17 12:18:50 -0000 (Fri, 17 Oct 2025) EndedAt: 2025-10-17 12:31:51 -0000 (Fri, 17 Oct 2025) EllapsedTime: 781.0 seconds RetCode: 0 Status: OK CheckDir: preciseTAD.Rcheck Warnings: 0