Package: preciseTAD Version: 1.19.0 Command: F:\biocbuild\bbs-3.22-bioc\R\bin\R.exe CMD check --no-multiarch --install=check:preciseTAD.install-out.txt --library=F:\biocbuild\bbs-3.22-bioc\R\library --no-vignettes --timings preciseTAD_1.19.0.tar.gz StartedAt: 2025-08-15 06:33:54 -0400 (Fri, 15 Aug 2025) EndedAt: 2025-08-15 06:46:18 -0400 (Fri, 15 Aug 2025) EllapsedTime: 744.5 seconds RetCode: 0 Status: OK CheckDir: preciseTAD.Rcheck Warnings: 0