Package: preciseTAD Version: 1.19.0 Command: /Library/Frameworks/R.framework/Resources/bin/R CMD INSTALL preciseTAD StartedAt: 2025-10-19 15:54:33 -0400 (Sun, 19 Oct 2025) EndedAt: 2025-10-19 15:55:12 -0400 (Sun, 19 Oct 2025) EllapsedTime: 39.2 seconds RetCode: 0 Status: OK