Package: preciseTAD Version: 1.19.0 Command: /Library/Frameworks/R.framework/Resources/bin/R CMD build --keep-empty-dirs --no-resave-data preciseTAD StartedAt: 2025-10-19 18:51:10 -0400 (Sun, 19 Oct 2025) EndedAt: 2025-10-19 18:56:08 -0400 (Sun, 19 Oct 2025) EllapsedTime: 298.1 seconds RetCode: 0 Status: OK PackageFile: preciseTAD_1.19.0.tar.gz PackageFileSize: 4.072 MiB