Package: preciseTAD Version: 1.19.0 Command: /Library/Frameworks/R.framework/Resources/bin/R CMD INSTALL preciseTAD StartedAt: 2025-10-20 15:32:37 -0400 (Mon, 20 Oct 2025) EndedAt: 2025-10-20 15:32:53 -0400 (Mon, 20 Oct 2025) EllapsedTime: 16.5 seconds RetCode: 0 Status: OK