Package: preciseTAD Version: 1.19.0 Command: /Library/Frameworks/R.framework/Resources/bin/R CMD check --install=check:preciseTAD.install-out.txt --library=/Library/Frameworks/R.framework/Resources/library --no-vignettes --timings preciseTAD_1.19.0.tar.gz StartedAt: 2025-10-20 21:23:34 -0400 (Mon, 20 Oct 2025) EndedAt: 2025-10-20 21:28:17 -0400 (Mon, 20 Oct 2025) EllapsedTime: 282.3 seconds RetCode: 0 Status: OK CheckDir: preciseTAD.Rcheck Warnings: 0