Package: preciseTAD Version: 1.19.0 Command: /Library/Frameworks/R.framework/Resources/bin/R CMD build --keep-empty-dirs --no-resave-data preciseTAD StartedAt: 2025-10-21 17:24:56 -0400 (Tue, 21 Oct 2025) EndedAt: 2025-10-21 17:27:23 -0400 (Tue, 21 Oct 2025) EllapsedTime: 146.7 seconds RetCode: 0 Status: OK PackageFile: preciseTAD_1.19.0.tar.gz PackageFileSize: 4.073 MiB