Package: pqsfinder Version: 2.25.0 Command: /home/biocbuild/R/R/bin/R CMD build --keep-empty-dirs --no-resave-data pqsfinder StartedAt: 2025-10-21 02:08:03 -0000 (Tue, 21 Oct 2025) EndedAt: 2025-10-21 02:08:08 -0000 (Tue, 21 Oct 2025) EllapsedTime: 5.0 seconds RetCode: 1 Status: ERROR PackageFile: None PackageFileSize: NA