Package: ppcseq Version: 1.17.0 Command: /home/biocbuild/R/R/bin/R CMD build --keep-empty-dirs --no-resave-data ppcseq StartedAt: 2025-10-21 02:07:55 -0000 (Tue, 21 Oct 2025) EndedAt: 2025-10-21 02:11:20 -0000 (Tue, 21 Oct 2025) EllapsedTime: 205.1 seconds RetCode: 1 Status: ERROR PackageFile: None PackageFileSize: NA