Package: ppcseq Version: 1.17.0 Command: chmod a+r ppcseq -R && F:\biocbuild\bbs-3.22-bioc\R\bin\R.exe CMD build --keep-empty-dirs --no-resave-data ppcseq StartedAt: 2025-08-14 22:25:21 -0400 (Thu, 14 Aug 2025) EndedAt: 2025-08-14 22:29:23 -0400 (Thu, 14 Aug 2025) EllapsedTime: 242.7 seconds RetCode: 0 Status: OK PackageFile: ppcseq_1.17.0.tar.gz PackageFileSize: 1.939 MiB