Package: ppcseq Version: 1.18.0 Command: /home/biocbuild/bbs-3.22-bioc/R/bin/R CMD check --install=check:ppcseq.install-out.txt --library=/home/biocbuild/bbs-3.22-bioc/R/site-library --timings ppcseq_1.18.0.tar.gz StartedAt: 2025-10-30 09:09:51 -0400 (Thu, 30 Oct 2025) EndedAt: 2025-10-30 09:24:28 -0400 (Thu, 30 Oct 2025) EllapsedTime: 876.8 seconds RetCode: 0 Status: OK CheckDir: ppcseq.Rcheck Warnings: 0