Package: ppcseq Version: 1.18.0 Command: /Library/Frameworks/R.framework/Resources/bin/R CMD check --install=check:ppcseq.install-out.txt --library=/Library/Frameworks/R.framework/Resources/library --no-vignettes --timings ppcseq_1.18.0.tar.gz StartedAt: 2025-10-31 23:22:29 -0400 (Fri, 31 Oct 2025) EndedAt: 2025-10-31 23:24:28 -0400 (Fri, 31 Oct 2025) EllapsedTime: 119.1 seconds RetCode: 0 Status: OK CheckDir: ppcseq.Rcheck Warnings: 0