Package: ppcseq Version: 1.18.0 Command: /Library/Frameworks/R.framework/Resources/bin/R CMD build --keep-empty-dirs --no-resave-data ppcseq StartedAt: 2025-10-31 18:20:09 -0400 (Fri, 31 Oct 2025) EndedAt: 2025-10-31 18:22:14 -0400 (Fri, 31 Oct 2025) EllapsedTime: 124.6 seconds RetCode: 0 Status: OK PackageFile: ppcseq_1.18.0.tar.gz PackageFileSize: 1.939 MiB