Package: ppcseq Version: 1.17.0 Command: /Library/Frameworks/R.framework/Resources/bin/R CMD build --keep-empty-dirs --no-resave-data ppcseq StartedAt: 2025-10-28 17:22:01 -0400 (Tue, 28 Oct 2025) EndedAt: 2025-10-28 17:22:42 -0400 (Tue, 28 Oct 2025) EllapsedTime: 41.5 seconds RetCode: 0 Status: OK PackageFile: ppcseq_1.17.0.tar.gz PackageFileSize: 1.939 MiB