Package: ppcseq Version: 1.18.0 Command: rm -rf ppcseq.buildbin-libdir && mkdir ppcseq.buildbin-libdir && /Users/biocbuild/BBS/utils/build-universal.sh ppcseq_1.18.0.tar.gz /Library/Frameworks/R.framework/Resources/bin/R ppcseq.buildbin-libdir StartedAt: 2025-10-30 05:35:48 -0400 (Thu, 30 Oct 2025) EndedAt: 2025-10-30 05:36:28 -0400 (Thu, 30 Oct 2025) EllapsedTime: 39.8 seconds RetCode: 0 Status: OK PackageFile: ppcseq_1.18.0.tgz PackageFileSize: 2.57 MiB