Package: pogos Version: 1.29.0 Command: rm -rf pogos.buildbin-libdir && mkdir pogos.buildbin-libdir && F:\biocbuild\bbs-3.22-bioc\R\bin\R.exe CMD INSTALL --build --library=pogos.buildbin-libdir pogos_1.29.0.tar.gz StartedAt: 2025-08-15 10:58:37 -0400 (Fri, 15 Aug 2025) EndedAt: 2025-08-15 10:59:25 -0400 (Fri, 15 Aug 2025) EllapsedTime: 48.2 seconds RetCode: 0 Status: OK PackageFile: pogos_1.29.0.zip PackageFileSize: 873.6 KiB