Package: pogos Version: 1.29.0 Command: /home/biocbuild/bbs-3.22-bioc/R/bin/R CMD build --keep-empty-dirs --no-resave-data --md5 pogos StartedAt: 2025-10-23 19:23:56 -0400 (Thu, 23 Oct 2025) EndedAt: 2025-10-23 19:30:52 -0400 (Thu, 23 Oct 2025) EllapsedTime: 416.6 seconds RetCode: 0 Status: OK PackageFile: pogos_1.29.0.tar.gz PackageFileSize: 2.032 MiB