Package: pogos Version: 1.29.0 Command: rm -rf pogos.buildbin-libdir && mkdir pogos.buildbin-libdir && /Users/biocbuild/BBS/utils/build-universal.sh pogos_1.29.0.tar.gz /Library/Frameworks/R.framework/Resources/bin/R pogos.buildbin-libdir StartedAt: 2025-10-20 03:25:27 -0400 (Mon, 20 Oct 2025) EndedAt: 2025-10-20 03:26:18 -0400 (Mon, 20 Oct 2025) EllapsedTime: 50.6 seconds RetCode: 0 Status: OK PackageFile: pogos_1.29.0.tgz PackageFileSize: 1.389 MiB