Package: pogos Version: 1.29.0 Command: /Library/Frameworks/R.framework/Resources/bin/R CMD INSTALL pogos StartedAt: 2025-10-19 15:19:35 -0400 (Sun, 19 Oct 2025) EndedAt: 2025-10-19 15:19:48 -0400 (Sun, 19 Oct 2025) EllapsedTime: 13.2 seconds RetCode: 0 Status: OK