Package: pogos Version: 1.29.0 Command: /Library/Frameworks/R.framework/Resources/bin/R CMD check --install=check:pogos.install-out.txt --library=/Library/Frameworks/R.framework/Resources/library --no-vignettes --timings pogos_1.29.0.tar.gz StartedAt: 2025-10-21 21:23:16 -0400 (Tue, 21 Oct 2025) EndedAt: 2025-10-21 21:24:48 -0400 (Tue, 21 Oct 2025) EllapsedTime: 92.1 seconds RetCode: 0 Status: OK CheckDir: pogos.Rcheck Warnings: 0