Package: pogos Version: 1.29.0 Command: /Library/Frameworks/R.framework/Resources/bin/R CMD build --keep-empty-dirs --no-resave-data pogos StartedAt: 2025-10-19 17:19:52 -0400 (Sun, 19 Oct 2025) EndedAt: 2025-10-19 17:22:24 -0400 (Sun, 19 Oct 2025) EllapsedTime: 151.7 seconds RetCode: 0 Status: OK PackageFile: pogos_1.29.0.tar.gz PackageFileSize: 2.094 MiB