Package: pmp Version: 1.21.0 Command: /Library/Frameworks/R.framework/Resources/bin/R CMD check --install=check:pmp.install-out.txt --library=/Library/Frameworks/R.framework/Resources/library --no-vignettes --timings pmp_1.21.0.tar.gz StartedAt: 2025-10-02 23:38:29 -0400 (Thu, 02 Oct 2025) EndedAt: 2025-10-02 23:42:11 -0400 (Thu, 02 Oct 2025) EllapsedTime: 221.3 seconds RetCode: 0 Status: OK CheckDir: pmp.Rcheck Warnings: 0