Package: pmp Version: 1.21.0 Command: /Library/Frameworks/R.framework/Resources/bin/R CMD build --keep-empty-dirs --no-resave-data pmp StartedAt: 2025-10-01 18:19:48 -0400 (Wed, 01 Oct 2025) EndedAt: 2025-10-01 18:21:29 -0400 (Wed, 01 Oct 2025) EllapsedTime: 101.7 seconds RetCode: 0 Status: OK PackageFile: pmp_1.21.0.tar.gz PackageFileSize: 5.166 MiB