Package: plyxp Version: 1.3.9 Command: /home/biocbuild/R/R/bin/R CMD INSTALL plyxp StartedAt: 2025-10-16 21:29:51 -0000 (Thu, 16 Oct 2025) EndedAt: 2025-10-16 21:30:25 -0000 (Thu, 16 Oct 2025) EllapsedTime: 34.5 seconds RetCode: 0 Status: OK