Package: plyxp Version: 1.3.4 Command: F:\biocbuild\bbs-3.22-bioc\R\bin\R.exe CMD check --no-multiarch --install=check:plyxp.install-out.txt --library=F:\biocbuild\bbs-3.22-bioc\R\library --no-vignettes --timings plyxp_1.3.4.tar.gz StartedAt: 2025-08-15 06:28:43 -0400 (Fri, 15 Aug 2025) EndedAt: 2025-08-15 06:32:20 -0400 (Fri, 15 Aug 2025) EllapsedTime: 216.8 seconds RetCode: 0 Status: WARNINGS CheckDir: plyxp.Rcheck Warnings: 1