Package: plyxp Version: 1.3.4 Command: chmod a+r plyxp -R && F:\biocbuild\bbs-3.22-bioc\R\bin\R.exe CMD build --keep-empty-dirs --no-resave-data plyxp StartedAt: 2025-08-14 22:22:36 -0400 (Thu, 14 Aug 2025) EndedAt: 2025-08-14 22:23:44 -0400 (Thu, 14 Aug 2025) EllapsedTime: 68.1 seconds RetCode: 0 Status: OK PackageFile: plyxp_1.3.4.tar.gz PackageFileSize: 1.177 MiB