Package: plyxp Version: 1.3.4 Command: rm -rf plyxp.buildbin-libdir && mkdir plyxp.buildbin-libdir && F:\biocbuild\bbs-3.22-bioc\R\bin\R.exe CMD INSTALL --build --library=plyxp.buildbin-libdir plyxp_1.3.4.tar.gz StartedAt: 2025-08-15 10:58:24 -0400 (Fri, 15 Aug 2025) EndedAt: 2025-08-15 10:59:28 -0400 (Fri, 15 Aug 2025) EllapsedTime: 64.3 seconds RetCode: 0 Status: OK PackageFile: plyxp_1.3.4.zip PackageFileSize: 1.68 MiB