Package: plyxp Version: 1.3.9 Command: /home/biocbuild/bbs-3.22-bioc/R/bin/R CMD INSTALL plyxp StartedAt: 2025-10-19 15:18:23 -0400 (Sun, 19 Oct 2025) EndedAt: 2025-10-19 15:18:48 -0400 (Sun, 19 Oct 2025) EllapsedTime: 24.8 seconds RetCode: 0 Status: OK