Package: plyxp Version: 1.3.10 Command: /Library/Frameworks/R.framework/Resources/bin/R CMD check --install=check:plyxp.install-out.txt --library=/Library/Frameworks/R.framework/Resources/library --no-vignettes --timings plyxp_1.3.10.tar.gz StartedAt: 2025-10-21 00:46:23 -0400 (Tue, 21 Oct 2025) EndedAt: 2025-10-21 00:50:02 -0400 (Tue, 21 Oct 2025) EllapsedTime: 218.4 seconds RetCode: 0 Status: OK CheckDir: plyxp.Rcheck Warnings: 0