Package: plyxp Version: 1.3.9 Command: /Library/Frameworks/R.framework/Resources/bin/R CMD build --keep-empty-dirs --no-resave-data plyxp StartedAt: 2025-10-19 18:49:47 -0400 (Sun, 19 Oct 2025) EndedAt: 2025-10-19 18:50:44 -0400 (Sun, 19 Oct 2025) EllapsedTime: 57.1 seconds RetCode: 0 Status: OK PackageFile: plyxp_1.3.9.tar.gz PackageFileSize: 1.18 MiB