Package: plyxp Version: 1.3.9 Command: rm -rf plyxp.buildbin-libdir && mkdir plyxp.buildbin-libdir && /Users/biocbuild/BBS/utils/build-universal.sh plyxp_1.3.9.tar.gz /Library/Frameworks/R.framework/Resources/bin/R plyxp.buildbin-libdir StartedAt: 2025-10-20 03:25:22 -0400 (Mon, 20 Oct 2025) EndedAt: 2025-10-20 03:26:01 -0400 (Mon, 20 Oct 2025) EllapsedTime: 39.4 seconds RetCode: 0 Status: OK PackageFile: plyxp_1.3.9.tgz PackageFileSize: 1.705 MiB