Package: plyranges Version: 1.29.1 Command: /Library/Frameworks/R.framework/Resources/bin/R CMD INSTALL plyranges StartedAt: 2025-10-20 15:18:27 -0400 (Mon, 20 Oct 2025) EndedAt: 2025-10-20 15:18:41 -0400 (Mon, 20 Oct 2025) EllapsedTime: 14.6 seconds RetCode: 0 Status: OK