Package: plyranges Version: 1.29.1 Command: /Library/Frameworks/R.framework/Resources/bin/R CMD build --keep-empty-dirs --no-resave-data plyranges StartedAt: 2025-10-19 17:19:30 -0400 (Sun, 19 Oct 2025) EndedAt: 2025-10-19 17:19:52 -0400 (Sun, 19 Oct 2025) EllapsedTime: 22.3 seconds RetCode: 0 Status: OK PackageFile: plyranges_1.29.1.tar.gz PackageFileSize: 1.244 MiB