Package: plier Version: 1.80.0 Command: /Library/Frameworks/R.framework/Resources/bin/R CMD check --install=check:plier.install-out.txt --library=/Library/Frameworks/R.framework/Resources/library --no-vignettes --timings plier_1.80.0.tar.gz StartedAt: 2025-11-06 21:21:56 -0500 (Thu, 06 Nov 2025) EndedAt: 2025-11-06 21:22:09 -0500 (Thu, 06 Nov 2025) EllapsedTime: 13.2 seconds RetCode: 0 Status: WARNINGS CheckDir: plier.Rcheck Warnings: 1