Package: plier Version: 1.80.0 Command: /Library/Frameworks/R.framework/Resources/bin/R CMD build --keep-empty-dirs --no-resave-data plier StartedAt: 2025-10-31 17:25:11 -0400 (Fri, 31 Oct 2025) EndedAt: 2025-10-31 17:25:12 -0400 (Fri, 31 Oct 2025) EllapsedTime: 1.0 seconds RetCode: 0 Status: OK PackageFile: plier_1.80.0.tar.gz PackageFileSize: 20.32 KiB