Package: plgem Version: 1.81.0 Command: /home/biocbuild/R/R/bin/R CMD check --install=check:plgem.install-out.txt --library=/home/biocbuild/R/R/site-library --no-vignettes --timings plgem_1.81.0.tar.gz StartedAt: 2025-10-17 12:14:07 -0000 (Fri, 17 Oct 2025) EndedAt: 2025-10-17 12:15:01 -0000 (Fri, 17 Oct 2025) EllapsedTime: 54.1 seconds RetCode: 0 Status: OK CheckDir: plgem.Rcheck Warnings: 0