Package: plgem Version: 1.81.0 Command: /Library/Frameworks/R.framework/Resources/bin/R CMD INSTALL plgem StartedAt: 2025-10-20 15:19:53 -0400 (Mon, 20 Oct 2025) EndedAt: 2025-10-20 15:19:55 -0400 (Mon, 20 Oct 2025) EllapsedTime: 1.6 seconds RetCode: 0 Status: OK