Package: plgem Version: 1.81.0 Command: /Library/Frameworks/R.framework/Resources/bin/R CMD check --install=check:plgem.install-out.txt --library=/Library/Frameworks/R.framework/Resources/library --no-vignettes --timings plgem_1.81.0.tar.gz StartedAt: 2025-10-20 21:20:13 -0400 (Mon, 20 Oct 2025) EndedAt: 2025-10-20 21:20:32 -0400 (Mon, 20 Oct 2025) EllapsedTime: 19.3 seconds RetCode: 0 Status: OK CheckDir: plgem.Rcheck Warnings: 0