Package: plasmut Version: 1.7.0 Command: chmod a+r plasmut -R && F:\biocbuild\bbs-3.22-bioc\R\bin\R.exe CMD build --keep-empty-dirs --no-resave-data plasmut StartedAt: 2025-08-14 22:21:44 -0400 (Thu, 14 Aug 2025) EndedAt: 2025-08-14 22:25:28 -0400 (Thu, 14 Aug 2025) EllapsedTime: 223.7 seconds RetCode: 0 Status: OK PackageFile: plasmut_1.7.0.tar.gz PackageFileSize: 273.3 KiB