Package: plasmut Version: 1.7.0 Command: /Library/Frameworks/R.framework/Resources/bin/R CMD build --keep-empty-dirs --no-resave-data plasmut StartedAt: 2025-10-23 17:24:47 -0400 (Thu, 23 Oct 2025) EndedAt: 2025-10-23 17:25:47 -0400 (Thu, 23 Oct 2025) EllapsedTime: 59.7 seconds RetCode: 0 Status: OK PackageFile: plasmut_1.7.0.tar.gz PackageFileSize: 340.9 KiB